BEGIN:VCALENDAR
VERSION:2.0
PRODID:-//SSK - ECPv6.11.2.1//NONSGML v1.0//EN
CALSCALE:GREGORIAN
METHOD:PUBLISH
X-WR-CALNAME:SSK
X-ORIGINAL-URL:https://ssk.or.ke
X-WR-CALDESC:Events for SSK
REFRESH-INTERVAL;VALUE=DURATION:PT1H
X-Robots-Tag:noindex
X-PUBLISHED-TTL:PT1H
BEGIN:VTIMEZONE
TZID:UTC
BEGIN:STANDARD
TZOFFSETFROM:+0000
TZOFFSETTO:+0000
TZNAME:UTC
DTSTART:20250101T000000
END:STANDARD
END:VTIMEZONE
BEGIN:VEVENT
DTSTART;VALUE=DATE:20250913
DTEND;VALUE=DATE:20250914
DTSTAMP:20260425T135052
CREATED:20251009T103353Z
LAST-MODIFIED:20251009T105022Z
UID:1373-1757721600-1757807999@ssk.or.ke
SUMMARY:The Kenya Association of Women Surgeons (KAWS) Health & Wellness Day 2025.
DESCRIPTION:The Kenya Association of Women Surgeons (KAWS) Health & Wellness Day 2025\, held on 13th September at the Nairobi Arboretum\, gathered consultants\, surgical residents\, and medical students for a day of mindfulness\, movement\, and connection. Activities included stretching\, Zumba\, a wellness walk\, and a candid sharing circle where participants reflected on their journeys and the challenges in surgery. A yoga session under the trees further encouraged reflection and balance\, while the collective wearing of “Scalpels & Sass” T-shirts highlighted unity and the spirit of sisterhood at the heart of KAWS. \nParticipants described the event as inspiring and restorative\, with many appreciating the networking and mentorship opportunities alongside the physical activities. The day concluded with refreshments\, sponsor acknowledgments\, and remarks from surgical leaders\, leaving attendees recharged and motivated. KAWS expressed gratitude to its partners and supporters\, noting that the event reinforced the importance of holistic wellness in surgery—nurturing not only technical skill but also mental\, physical\, and community well-being. \nKAWS Members \n \nThe meeting was graced by the presence of the SSK President.
URL:https://ssk.or.ke/event/the-kenya-association-of-women-surgeons-kaws-health-wellness-day-2025/
LOCATION:Mombasa
END:VEVENT
BEGIN:VEVENT
DTSTART;VALUE=DATE:20251211
DTEND;VALUE=DATE:20251212
DTSTAMP:20260425T135052
CREATED:20251009T110416Z
LAST-MODIFIED:20251009T111948Z
UID:1383-1765411200-1765497599@ssk.or.ke
SUMMARY:Kenya Association of Women Surgeon's Dinner
DESCRIPTION:It’s all about women’s stories and we extend a warm welcome to you all.
URL:https://ssk.or.ke/event/kenya-association-of-women-in-surgery-dinner/
LOCATION:Mombasa
END:VEVENT
BEGIN:VEVENT
DTSTART;VALUE=DATE:20260420
DTEND;VALUE=DATE:20260425
DTSTAMP:20260425T135052
CREATED:20260327T100016Z
LAST-MODIFIED:20260331T051734Z
UID:1464-1776643200-1777075199@ssk.or.ke
SUMMARY:The Preconference and Annual Scientific Conference will be held from 20th to 24th April 2026.
DESCRIPTION:Proposed preconference dates are 20th -21st April 2026 \n \nImportant Notice: Accommodation will not be provided for participants. Access to leisure facilities and hotel amenities will also not be available during the conference. \nClick here to download the conference program.
URL:https://ssk.or.ke/event/the-preconference-and-annual-scientific-conference-will-be-held-from-20th-to-24th-april-2026/
LOCATION:Pride Inn hotel\, 18981\, Mombasa\, Mombasa\, 00100\, Kenya
CATEGORIES:Conference
END:VEVENT
END:VCALENDAR